BEGIN:VCALENDAR
VERSION:2.0
PRODID:http://www.klb-trier.de
BEGIN:VEVENT
UID:d3477354-3c88-11f1-a3e9-0242ac11002b-1778257800000-de
DTSTAMP:20260420T071618Z
DTSTART:20260508T163000Z
DTEND:20260508T180000Z
SUMMARY;LANGUAGE=de:Einladung zu einer Führung und zum anschließenden gemeinsamen Friedensgebet der Pfarrgemeinde Rosport und der katholischen Landvolkbewegung (KLB) im Bistum Trier e.V.
DESCRIPTION;LANGUAGE=de:Einladung zum Gebet um Frieden in Europa und der ganzen Welt.\nDie Katholische Landvolkbewegung lädt am Freitag\, dem 08. Mai 2026 zum Friedensgebet nach Rosport-Mombach „Girsterklaus“ ein. Anlass ist der Europatag am 09. Mai\, der Jahrestag der Schuman-Deklaration 1950. Dieser Einigungsprozess war die Grundlage\, um einen Krieg in Europa undenkbar zu machen. Diese Vision ist nach 72 Jahren gescheitert. Seit dem Überfall Russlands auf die Ukraine ist in Europa Krieg. Ein Ende nicht in Sicht. An vielen anderen Orten auf der Welt wird ebenfalls erbarmungslos gekämpft mit nicht absehbaren Folgen auch für Europa.\nWelch kostbares Gut der Friede ist und wie zerbrechlich dieses Gut ist\, sehen wir an den Herausforderungen unserer Zeit.\nDas Friedensgebet beginnt um 18.30 Uhr in der Wallfahrtskapelle Girsterklaus\, 6558 Rosport-Mombach mit anschließender Eucharistiefeier um 19.00 Uhr.\nVor dem Friedensgebet lädt Pastor Schreiner um 17.30 Uhr zu einer Führung in der Wallfahrtskapelle Maria Himmelfahrt ein. Die romanische Kapelle ist die älteste Wallfahrtskapelle Luxemburgs mit Ursprüngen aus dem 11. bzw. 12. Jahrhundert. Sie liegt westlich über dem Tal der Sauer und damit in Nähe zu Deutschland.\nHerzliche Einladung zur Führung\, zum Gebet und zur Begegnung.
IMAGE;VALUE=URI;DISPLAY=BADGE;FMTTYPE=image/jpeg:http://www.klb-trier.de/export/sites/katholische-landvolkbewegung-im-bistum-trier-e.v.-/.galleries/bilder/Europa-Flagge.jpg
END:VEVENT
END:VCALENDAR
